BEGIN:VCALENDAR
VERSION:2.0
PRODID:-//Events 1776635126//NONSGML kigkonsult.se iCalcreator 2.18//
METHOD:PUBLISH
X-WR-TIMEZONE:Europe/Zurich
X-LIC-LOCATION:Europe/Zurich
BEGIN:VTIMEZONE
TZID:Europe/Zurich
X-LIC-LOCATION:Europe/Zurich
BEGIN:STANDARD
DTSTART:20261025T030000
TZOFFSETFROM:+0200
TZOFFSETTO:+0100
TZNAME:CET
END:STANDARD
BEGIN:DAYLIGHT
DTSTART:20260329T020000
TZOFFSETFROM:+0100
TZOFFSETTO:+0200
RDATE:20270328T020000
TZNAME:CEST
END:DAYLIGHT
END:VTIMEZONE
BEGIN:VEVENT
UID:20260419T234526CEST-6806aCBVTv@Events 1776635126
DTSTAMP:20260419T214526Z
COMMENT:Verein Hopfaarau
DESCRIPTION:<p>Die Aarauer Bierwanderung präsentiert eine sorgfältig zusamm
 engestellte Auswahl vielfältiger Craft Biere und bringt diese auf einen Wa
 nderweg rund um den Aarauer Wald.<br />\nEntdecke Brauereien aus allen Lan
 desteilen und freue dich jedes Jahr auf eine besondere Gastbrauerei aus de
 m Ausland.<br />\nNatur\, Genuss und echtes Handwerk – vereint auf einer R
 oute\, die durch Wälder\, Felder und die Aarauer Landschaft führt.</p>\n
DTSTART;TZID=Europe/Zurich:20260815T100000
DTEND;TZID=Europe/Zurich:20260815T220000
LOCATION:Distelberg\, Aarau
SUMMARY:Aarauer Bierwanderung
END:VEVENT
END:VCALENDAR
